BEGIN:VCALENDAR
VERSION:2.0
PRODID:-//Birmingham Improv - ECPv6.15.20//NONSGML v1.0//EN
CALSCALE:GREGORIAN
METHOD:PUBLISH
X-WR-CALNAME:Birmingham Improv
X-ORIGINAL-URL:https://birminghamimprov.com
X-WR-CALDESC:Events for Birmingham Improv
REFRESH-INTERVAL;VALUE=DURATION:PT1H
X-Robots-Tag:noindex
X-PUBLISHED-TTL:PT1H
BEGIN:VTIMEZONE
TZID:Europe/London
BEGIN:DAYLIGHT
TZOFFSETFROM:+0000
TZOFFSETTO:+0100
TZNAME:BST
DTSTART:20250330T010000
END:DAYLIGHT
BEGIN:STANDARD
TZOFFSETFROM:+0100
TZOFFSETTO:+0000
TZNAME:GMT
DTSTART:20251026T010000
END:STANDARD
BEGIN:DAYLIGHT
TZOFFSETFROM:+0000
TZOFFSETTO:+0100
TZNAME:BST
DTSTART:20260329T010000
END:DAYLIGHT
BEGIN:STANDARD
TZOFFSETFROM:+0100
TZOFFSETTO:+0000
TZNAME:GMT
DTSTART:20261025T010000
END:STANDARD
BEGIN:DAYLIGHT
TZOFFSETFROM:+0000
TZOFFSETTO:+0100
TZNAME:BST
DTSTART:20270328T010000
END:DAYLIGHT
BEGIN:STANDARD
TZOFFSETFROM:+0100
TZOFFSETTO:+0000
TZNAME:GMT
DTSTART:20271031T010000
END:STANDARD
END:VTIMEZONE
BEGIN:VEVENT
DTSTART;TZID=Europe/London:20260429T193000
DTEND;TZID=Europe/London:20260429T213000
DTSTAMP:20260419T195712
CREATED:20251205T141714Z
LAST-MODIFIED:20251205T141714Z
UID:10000841-1777491000-1777498200@birminghamimprov.com
SUMMARY:Birmingham Improv Comedy Jam (ft. Box of Frogs)
DESCRIPTION:Come and enjoy the Birmingham Improv comedy Jam!! \nAn evening of fun for all. Turn up\, grab a drink\, put your name in the hat\, and perform! Or if you prefer\, just watch the fun! \nWith a different Improv group invited  to entertain us each month for the first half. Followed by a jam hosted by resident guests\, Box of Frogs. \nCome and play your favourite improv games\, take part in improvised scenes\, sketches and songs\, or just sit back and watch. \nSuitable for all levels of experience\, including complete beginners. \nDoors open 7.15.  Show starts at 7.30.  Come earlier if you fancy a drink first. \nFree Entry (recommended donation\, £5)
URL:https://birminghamimprov.com/event/birmingham-improv-comedy-jam-ft-box-of-frogs/2026-04-29/
LOCATION:1000 Trades\, 16 Frederick Street\, Birmingham\, B1 3HE
CATEGORIES:Jams,Performances
ATTACH;FMTTYPE=image/png:https://birminghamimprov.com/wp-content/uploads/2021/09/bimprov-comedy-jam-fb-event-header.png
ORGANIZER;CN="Birmingham  Improv":MAILTO:info@birminghamimprov.com
END:VEVENT
BEGIN:VEVENT
DTSTART;TZID=Europe/London:20260527T193000
DTEND;TZID=Europe/London:20260527T213000
DTSTAMP:20260419T195712
CREATED:20251205T141714Z
LAST-MODIFIED:20251205T141714Z
UID:10000842-1779910200-1779917400@birminghamimprov.com
SUMMARY:Birmingham Improv Comedy Jam (ft. Box of Frogs)
DESCRIPTION:Come and enjoy the Birmingham Improv comedy Jam!! \nAn evening of fun for all. Turn up\, grab a drink\, put your name in the hat\, and perform! Or if you prefer\, just watch the fun! \nWith a different Improv group invited  to entertain us each month for the first half. Followed by a jam hosted by resident guests\, Box of Frogs. \nCome and play your favourite improv games\, take part in improvised scenes\, sketches and songs\, or just sit back and watch. \nSuitable for all levels of experience\, including complete beginners. \nDoors open 7.15.  Show starts at 7.30.  Come earlier if you fancy a drink first. \nFree Entry (recommended donation\, £5)
URL:https://birminghamimprov.com/event/birmingham-improv-comedy-jam-ft-box-of-frogs/2026-05-27/
LOCATION:1000 Trades\, 16 Frederick Street\, Birmingham\, B1 3HE
CATEGORIES:Jams,Performances
ATTACH;FMTTYPE=image/png:https://birminghamimprov.com/wp-content/uploads/2021/09/bimprov-comedy-jam-fb-event-header.png
ORGANIZER;CN="Birmingham  Improv":MAILTO:info@birminghamimprov.com
END:VEVENT
BEGIN:VEVENT
DTSTART;TZID=Europe/London:20260624T193000
DTEND;TZID=Europe/London:20260624T213000
DTSTAMP:20260419T195712
CREATED:20251205T141714Z
LAST-MODIFIED:20251205T141714Z
UID:10000843-1782329400-1782336600@birminghamimprov.com
SUMMARY:Birmingham Improv Comedy Jam (ft. Box of Frogs)
DESCRIPTION:Come and enjoy the Birmingham Improv comedy Jam!! \nAn evening of fun for all. Turn up\, grab a drink\, put your name in the hat\, and perform! Or if you prefer\, just watch the fun! \nWith a different Improv group invited  to entertain us each month for the first half. Followed by a jam hosted by resident guests\, Box of Frogs. \nCome and play your favourite improv games\, take part in improvised scenes\, sketches and songs\, or just sit back and watch. \nSuitable for all levels of experience\, including complete beginners. \nDoors open 7.15.  Show starts at 7.30.  Come earlier if you fancy a drink first. \nFree Entry (recommended donation\, £5)
URL:https://birminghamimprov.com/event/birmingham-improv-comedy-jam-ft-box-of-frogs/2026-06-24/
LOCATION:1000 Trades\, 16 Frederick Street\, Birmingham\, B1 3HE
CATEGORIES:Jams,Performances
ATTACH;FMTTYPE=image/png:https://birminghamimprov.com/wp-content/uploads/2021/09/bimprov-comedy-jam-fb-event-header.png
ORGANIZER;CN="Birmingham  Improv":MAILTO:info@birminghamimprov.com
END:VEVENT
BEGIN:VEVENT
DTSTART;TZID=Europe/London:20260729T193000
DTEND;TZID=Europe/London:20260729T213000
DTSTAMP:20260419T195712
CREATED:20251205T141714Z
LAST-MODIFIED:20251205T141714Z
UID:10000844-1785353400-1785360600@birminghamimprov.com
SUMMARY:Birmingham Improv Comedy Jam (ft. Box of Frogs)
DESCRIPTION:Come and enjoy the Birmingham Improv comedy Jam!! \nAn evening of fun for all. Turn up\, grab a drink\, put your name in the hat\, and perform! Or if you prefer\, just watch the fun! \nWith a different Improv group invited  to entertain us each month for the first half. Followed by a jam hosted by resident guests\, Box of Frogs. \nCome and play your favourite improv games\, take part in improvised scenes\, sketches and songs\, or just sit back and watch. \nSuitable for all levels of experience\, including complete beginners. \nDoors open 7.15.  Show starts at 7.30.  Come earlier if you fancy a drink first. \nFree Entry (recommended donation\, £5)
URL:https://birminghamimprov.com/event/birmingham-improv-comedy-jam-ft-box-of-frogs/2026-07-29/
LOCATION:1000 Trades\, 16 Frederick Street\, Birmingham\, B1 3HE
CATEGORIES:Jams,Performances
ATTACH;FMTTYPE=image/png:https://birminghamimprov.com/wp-content/uploads/2021/09/bimprov-comedy-jam-fb-event-header.png
ORGANIZER;CN="Birmingham  Improv":MAILTO:info@birminghamimprov.com
END:VEVENT
END:VCALENDAR