BEGIN:VCALENDAR
VERSION:2.0
PRODID:-//Birmingham Improv - ECPv6.15.20//NONSGML v1.0//EN
CALSCALE:GREGORIAN
METHOD:PUBLISH
X-ORIGINAL-URL:https://birminghamimprov.com
X-WR-CALDESC:Events for Birmingham Improv
REFRESH-INTERVAL;VALUE=DURATION:PT1H
X-Robots-Tag:noindex
X-PUBLISHED-TTL:PT1H
BEGIN:VTIMEZONE
TZID:Europe/London
BEGIN:DAYLIGHT
TZOFFSETFROM:+0000
TZOFFSETTO:+0100
TZNAME:BST
DTSTART:20250330T010000
END:DAYLIGHT
BEGIN:STANDARD
TZOFFSETFROM:+0100
TZOFFSETTO:+0000
TZNAME:GMT
DTSTART:20251026T010000
END:STANDARD
BEGIN:DAYLIGHT
TZOFFSETFROM:+0000
TZOFFSETTO:+0100
TZNAME:BST
DTSTART:20260329T010000
END:DAYLIGHT
BEGIN:STANDARD
TZOFFSETFROM:+0100
TZOFFSETTO:+0000
TZNAME:GMT
DTSTART:20261025T010000
END:STANDARD
BEGIN:DAYLIGHT
TZOFFSETFROM:+0000
TZOFFSETTO:+0100
TZNAME:BST
DTSTART:20270328T010000
END:DAYLIGHT
BEGIN:STANDARD
TZOFFSETFROM:+0100
TZOFFSETTO:+0000
TZNAME:GMT
DTSTART:20271031T010000
END:STANDARD
END:VTIMEZONE
BEGIN:VEVENT
DTSTART;TZID=Europe/London:20260204T193000
DTEND;TZID=Europe/London:20260204T213000
DTSTAMP:20260425T113843
CREATED:20251205T141141Z
LAST-MODIFIED:20251205T141247Z
UID:10000808-1770233400-1770240600@birminghamimprov.com
SUMMARY:Birmingham Improv presents Spaghetti Junction
DESCRIPTION:Birmingham Improv brings  you Spaghetti Junction \nA never-before-assembled cast of improvisers perform never-before-seen scenes based on never-before-prompted prompts! \nWhere are we going? What’s it all about? What’s the moral of the night? \nThe audience will decide at the end! We don’t know where we’re going until we get there… \nDoors open 7.15.  Show starts at 7.30.  Come earlier if you fancy a drink first. \nFree Entry (recommended donation\, £5)
URL:https://birminghamimprov.com/event/birmingham-improv-presents-spaghetti-junction-2/2026-02-04/
LOCATION:1000 Trades\, 16 Frederick Street\, Birmingham\, B1 3HE
CATEGORIES:Performances
ATTACH;FMTTYPE=image/jpeg:https://birminghamimprov.com/wp-content/uploads/2025/02/logo.jpg
ORGANIZER;CN="Birmingham  Improv":MAILTO:info@birminghamimprov.com
END:VEVENT
END:VCALENDAR